BEGIN:VCALENDAR
VERSION:2.0
METHOD:PUBLISH
PRODID:-//hacksw/handcal//NONSGML v1.0//EN
BEGIN:VEVENT
DTSTAMP:20260422T083137Z
DTSTART:20260521T180000Z
DTEND:20260521T203000Z
UID:20260521T180000Z-20260521T203000Z-55@www.buergerhaus-moerfelden.de
SUMMARY:CHRISTOPH OESER  Boogie-Woogie-Night 2026
DESCRIPTION:Christoph Oeser\, laut Fachpresse einer der besten Boogie-
 Woogie-Pianisten Europas brennt zusammen mit Freunden ein Boogie-Feuer
 werk ab\, mit dem das Publikum elektrisiert wird. Nicht allein bekannt
 e Boogie Woogie Klassiker wie „Roll em‘ Pete“ und „Swanee River Boogie
 “ werden mit mitreißendem Groove und Virtuosität vorgetragen. Auch Blu
 es wird im Zusammenspiel mit dem mal erdigen\, mal gefühlvollen Saxoph
 on von Doris Assenheimer im Programm geboten. Das Ganze steht auf eine
 m groovigem\, soliden Fundament\, dieses Mal getragen von Anselm Wild 
 am Schlagzeug.\n\nHier eine kurze Vorstellung der einzelnen Musiker:\n
 \nChristoph Oeser\, (Piano): ist ein deutscher Boogie Woogie Pianist\,
  Blues- und Jazzmusiker (Piano\, Orgel). Er hat mit anderen dazu beige
 tragen\, dass der Boogie Woogie in Deutschland eine erstaunliche Popul
 arität genießt.\n\nWährend seines Graphik-Design-Studiums war er auf d
 em Sampler „Ried“ mit einer Solodarbietung vertreten und wendete sich 
 in der gleichen Zeit auch dem Mundart-Blues zu\; das Album „Uff Deiwel
  kumm raus“ erhielt 1981 den Preis der deutschen Schallplattenkritik. 
 Im Trio mit Bernd Kohn und Kai Eckhardt nahm er 1982 das Album „On the
  Ried Road“ auf. Mit der Frankfurt City Blues Band ging er internation
 al auf Tournee und spielte Konzerte mit Alan Skidmore\, Bernhard Dill 
 und Champion Jack Dupree.\n\nWeiterhin trat er mit der Barrelhouse Jaz
 zband und der „Matchbox Blues Band“ auf und begleitete Little Willie L
 ittlefield\, Johnny Copeland oder Maxine Howard. Als Nachfolger Leopol
 d von Knobelsdorffs holte ihn Ali Claudi 1989 als Pianist in die Boogi
 e Woogie Company\, mit der er auch auf Festivals u. a. auch in Belgien
 \, Frankreich und den Niederlanden auftrat und mehrere Platten aufnahm
 .\n\nDoris Assenheimer\, Tenorsaxophon\, Altsaxophon\, Querflöte und G
 esang: Doris ist mit der Gina Livingstone Band\, (eine der ersten Frau
 enbands Deutschlands)\, den Rodgau Monotones(Bläsersatz)\, Wolf Maahn\
 , Jane Palmer und viele Jahre mit der Matchbox Bluesband\, sowohl bei 
 Live-Konzerten\, als auch bei Fernsehsendungen aufgetreten.\n\n 
X-ALT-DESC;FMTTYPE=text/html:<p>Christoph Oeser\, laut Fachpresse eine
 r der besten Boogie-Woogie-Pianisten Europas brennt zusammen mit Freun
 den ein Boogie-Feuerwerk ab\, mit dem das Publikum elektrisiert wird. 
 Nicht allein bekannte Boogie Woogie Klassiker wie „Roll em‘ Pete“ und 
 „Swanee River Boogie“ werden mit mitreißendem Groove und Virtuosität v
 orgetragen. Auch Blues wird im Zusammenspiel mit dem mal erdigen\, mal
  gefühlvollen Saxophon von Doris Assenheimer im Programm geboten. Das 
 Ganze steht auf einem groovigem\, soliden Fundament\, dieses Mal getra
 gen von Anselm Wild am Schlagzeug.</p>\n<p>Hier eine kurze Vorstellung
  der einzelnen Musiker:</p>\n<p><strong>Christoph Oeser\, (Piano)</str
 ong>: ist ein deutscher Boogie Woogie Pianist\, <a href=https://de.wik
 ipedia.org/wiki/Blues>Blues</a>&#8211\; und Jazzmusiker (<a href=https
 ://de.wikipedia.org/wiki/Piano>Piano</a>\, <a href=https://de.wikipedi
 a.org/wiki/Orgel>Orgel</a>). Er hat mit anderen dazu beigetragen\, das
 s der <a href=https://de.wikipedia.org/wiki/Boogie_Woogie>Boogie Woogi
 e</a> in Deutschland eine erstaunliche Popularität genießt.</p>\n<p>Wä
 hrend seines Graphik-Design-Studiums war er auf dem Sampler „<a href=h
 ttps://de.wikipedia.org/wiki/Hessisches_Ried>Ried</a>“ mit einer Solod
 arbietung vertreten und wendete sich in der gleichen Zeit auch dem Mun
 dart-Blues zu\; das Album „Uff Deiwel kumm raus“ erhielt 1981 den <a h
 ref=https://de.wikipedia.org/wiki/Preis_der_deutschen_Schallplattenkri
 tik>Preis der deutschen Schallplattenkritik</a>. Im Trio mit <a href=h
 ttps://de.wikipedia.org/wiki/Bernd_Kohn>Bernd Kohn</a> und <a href=htt
 ps://de.wikipedia.org/wiki/Kai_Eckhardt>Kai Eckhardt</a> nahm er 1982 
 das Album „On the Ried Road“ auf. Mit der <a href=https://de.wikipedia
 .org/wiki/Frankfurt_City_Blues_Band>Frankfurt City Blues Band</a> ging
  er international auf Tournee und spielte Konzerte mit <a href=https:/
 /de.wikipedia.org/wiki/Alan_Skidmore>Alan Skidmore</a>\, Bernhard Dill
  und <a href=https://de.wikipedia.org/wiki/Champion_Jack_Dupree>Champi
 on Jack Dupree</a>.</p>\n<p>Weiterhin trat er mit der <a href=https://
 de.wikipedia.org/wiki/Barrelhouse_Jazzband>Barrelhouse Jazzband</a> un
 d der „Matchbox Blues Band“ auf und begleitete <a href=https://de.wiki
 pedia.org/wiki/Little_Willie_Littlefield>Little Willie Littlefield</a>
 \, <a href=https://de.wikipedia.org/wiki/Johnny_Copeland>Johnny Copela
 nd</a> oder Maxine Howard. Als Nachfolger Leopold von Knobelsdorffs ho
 lte ihn <a href=https://de.wikipedia.org/wiki/Ali_Claudi>Ali Claudi</a
 > 1989 als Pianist in die <a href=https://de.wikipedia.org/wiki/Boogie
 _Woogie_Company>Boogie Woogie Company</a>\, mit der er auch auf Festiv
 als u. a. auch in Belgien\, Frankreich und den Niederlanden auftrat un
 d mehrere Platten aufnahm.</p>\n<p><strong>Doris Assenheimer\, Tenorsa
 xophon\, Altsaxophon\, Querflöte und Gesang</strong>: Doris ist mit de
 r &#8222\;Gina Livingstone Band&#8220\;\, (eine der ersten Frauenbands
  Deutschlands)\, den &#8222\;Rodgau Monotones&#8220\;(Bläsersatz)\, Wo
 lf Maahn\, Jane Palmer und viele Jahre mit der &#8222\;Matchbox Bluesb
 and&#8220\;\, sowohl bei Live-Konzerten\, als auch bei Fernsehsendunge
 n aufgetreten.</p>\n<p>&nbsp\;</p>\n
URL:https://www.buergerhaus-moerfelden.de/events/christoph-oeser-boogi
 e-woogie-night-2026/?lang=de
ATTACH:https://www.buergerhaus-moerfelden.de/events/christoph-oeser-bo
 ogie-woogie-night-2026/?lang=de
ATTACH:https://www.buergerhaus-moerfelden.de/wp-content/uploads/2026/0
 3/Oeser-2026-Plakat-A1-schwach-150x150.gif
LOCATION:Kino Lichtblick\, Mörfelder Str. 20\, Mörfelden-Walldorf
END:VEVENT
END:VCALENDAR
