BEGIN:VCALENDAR
VERSION:2.0
METHOD:PUBLISH
PRODID:-//hacksw/handcal//NONSGML v1.0//EN
BEGIN:VEVENT
DTSTAMP:20260423T142059Z
DTSTART:20260919T180000Z
DTEND:20260919T200000Z
UID:20260919T180000Z-20260919T200000Z-56@www.buergerhaus-moerfelden.de
SUMMARY:Les Brünettes -finest female a capella-
DESCRIPTION:Die A-cappella-Band Les Brünettes blickt auf über 15 Jahre
  voller Musik\,\nFreundschaft und kreativer Abenteuer zurück. Seit 201
 0 haben Juliette Brousset\,\nStephanie Neigel\, Julia Pellegrini und L
 isa Herbolzheimer die Bühnen mit ihrem\neinzigartigen Sound erobert un
 d sich als eine der führenden weiblichen A-cappella\nGruppen etabliert
 . Dabei gehören Musik und Freundschaft in dieser Band untrennbar\nzusa
 mmen: Was als musikalisches Zusammentreffen begann\, entwickelte sich 
 zu\neiner tiefen persönlichen und kreativen Verbindung.\nSie veröffent
 lichten fünf Alben\, sangen in den Abbey Road Studios durch die\nMikro
 fone der Beatles\, in der Elbphilharmonie Hamburg und im heute journal
 \, auf\nFranzösisch\, Italienisch\, Spanisch\, Englisch und Deutsch\, 
 gewannen Preise – und\ngründeten nebenbei auch noch Familien. Dass dab
 ei nicht immer alles rosig läuft\,\nscheint die vier nicht auseinander
 -\, sondern eher näher zusammenzubringen.\nUnterstützt von brillanten 
 Kolleginnen hat sich das Ensemble immer\nweiterentwickelt. Aus jungen 
 Jazzstudentinnen wurden gefeierte Interpretinnen der\nBeatles\, Arrang
 eurinnen und Songwriterinnen\, die sogar ein Album mit ausschließlich\
 neigenen Stücken veröffentlichten. Dabei darf und kann jede der vier a
 uf ihre ganz\neigene Art strahlen.\nDie Konzerte versprechen eine aufr
 egende musikalische Reise durch die Höhepunkte\nihrer Karriere – von d
 en frühen Anfängen bis zu preisgekrönten Auftritten auf\ninternational
 en Bühnen. Mit typischer Leidenschaft und Energie schaffen es Les\nBrü
 nettes\, ihr Publikum immer wieder aufs Neue zu verzaubern. Nicht nur\
 neingefleischte Fans dürfen sich auf Lieblingsstücke und Klassiker aus
  ihren bisherigen\nProgrammen freuen.
X-ALT-DESC;FMTTYPE=text/html:<p>Die A-cappella-Band Les Brünettes blic
 kt auf über 15 Jahre voller Musik\,<br />\nFreundschaft und kreativer 
 Abenteuer zurück. Seit 2010 haben Juliette Brousset\,<br />\nStephanie
  Neigel\, Julia Pellegrini und Lisa Herbolzheimer die Bühnen mit ihrem
 <br />\neinzigartigen Sound erobert und sich als eine der führenden we
 iblichen A-cappella<br />\nGruppen etabliert. Dabei gehören Musik und 
 Freundschaft in dieser Band untrennbar<br />\nzusammen: Was als musika
 lisches Zusammentreffen begann\, entwickelte sich zu<br />\neiner tief
 en persönlichen und kreativen Verbindung.<br />\nSie veröffentlichten 
 fünf Alben\, sangen in den Abbey Road Studios durch die<br />\nMikrofo
 ne der Beatles\, in der Elbphilharmonie Hamburg und im heute journal\,
  auf<br />\nFranzösisch\, Italienisch\, Spanisch\, Englisch und Deutsc
 h\, gewannen Preise – und<br />\ngründeten nebenbei auch noch Familien
 . Dass dabei nicht immer alles rosig läuft\,<br />\nscheint die vier n
 icht auseinander-\, sondern eher näher zusammenzubringen.<br />\nUnter
 stützt von brillanten Kolleginnen hat sich das Ensemble immer<br />\nw
 eiterentwickelt. Aus jungen Jazzstudentinnen wurden gefeierte Interpre
 tinnen der<br />\nBeatles\, Arrangeurinnen und Songwriterinnen\, die s
 ogar ein Album mit ausschließlich<br />\neigenen Stücken veröffentlich
 ten. Dabei darf und kann jede der vier auf ihre ganz<br />\neigene Art
  strahlen.<br />\nDie Konzerte versprechen eine aufregende musikalisch
 e Reise durch die Höhepunkte<br />\nihrer Karriere – von den frühen An
 fängen bis zu preisgekrönten Auftritten auf<br />\ninternationalen Büh
 nen. Mit typischer Leidenschaft und Energie schaffen es Les<br />\nBrü
 nettes\, ihr Publikum immer wieder aufs Neue zu verzaubern. Nicht nur<
 br />\neingefleischte Fans dürfen sich auf Lieblingsstücke und Klassik
 er aus ihren bisherigen<br />\nProgrammen freuen.</p>\n
URL:https://www.buergerhaus-moerfelden.de/events/les-bruenettes-finest
 -female-a-capella/?lang=de
ATTACH:https://www.buergerhaus-moerfelden.de/events/les-bruenettes-fin
 est-female-a-capella/?lang=de
ATTACH:https://www.buergerhaus-moerfelden.de/wp-content/uploads/2026/0
 4/Les-Brunettes-Plakat-A1-web-150x150.gif
LOCATION:Bürgerhaus\, Westendstr. 60\, Mörfelden-Walldorf
END:VEVENT
END:VCALENDAR
